BEGIN:VCALENDAR
VERSION:2.0
PRODID:-// - ECPv6.15.20//NONSGML v1.0//EN
CALSCALE:GREGORIAN
METHOD:PUBLISH
X-ORIGINAL-URL:https://www.mithx.de
X-WR-CALDESC:Veranstaltungen für 
REFRESH-INTERVAL;VALUE=DURATION:PT1H
X-Robots-Tag:noindex
X-PUBLISHED-TTL:PT1H
BEGIN:VTIMEZONE
TZID:Europe/Berlin
BEGIN:DAYLIGHT
TZOFFSETFROM:+0100
TZOFFSETTO:+0200
TZNAME:CEST
DTSTART:20250330T010000
END:DAYLIGHT
BEGIN:STANDARD
TZOFFSETFROM:+0200
TZOFFSETTO:+0100
TZNAME:CET
DTSTART:20251026T010000
END:STANDARD
BEGIN:DAYLIGHT
TZOFFSETFROM:+0100
TZOFFSETTO:+0200
TZNAME:CEST
DTSTART:20260329T010000
END:DAYLIGHT
BEGIN:STANDARD
TZOFFSETFROM:+0200
TZOFFSETTO:+0100
TZNAME:CET
DTSTART:20261025T010000
END:STANDARD
BEGIN:DAYLIGHT
TZOFFSETFROM:+0100
TZOFFSETTO:+0200
TZNAME:CEST
DTSTART:20270328T010000
END:DAYLIGHT
BEGIN:STANDARD
TZOFFSETFROM:+0200
TZOFFSETTO:+0100
TZNAME:CET
DTSTART:20271031T010000
END:STANDARD
END:VTIMEZONE
BEGIN:VEVENT
DTSTART;TZID=Europe/Berlin:20260425T100000
DTEND;TZID=Europe/Berlin:20260425T130000
DTSTAMP:20260419T175154
CREATED:20260302T182121Z
LAST-MODIFIED:20260408T085240Z
UID:752-1777111200-1777122000@www.mithx.de
SUMMARY:MIT-Unternehmerfrühstück
DESCRIPTION:Wir freuen uns\, unsere erfolgreiche Veranstaltungsreihe fortzusetzen und laden Sie herzlich zur diesjährigen Ausgabe unseres MIT-Unternehmerfrühstücks ein. Nach einem gemeinsamen Frühstück erwarten Sie spannende Impulsvorträge zum Thema: \nSpeicher\, Repowering und Smart Energy\nErneuerbare Energielösungen für den Mittelstand\nPROGRAMM \n\nBegrüßung durch den MIT-Kreisvorsitzenden Rainer Kobusch\nGemeinsames Frühstück\nImpulsvorträge\n\n\n– Aktuelle Trends und Lösungen im Bereich Erneuerbarer Energien für mittelgroße Anwendungen\nAndreas Gast\, Vice-President SMA Solar Technology AG\n\n\n– Bandbreite unterschiedlicher Erneuerbarer Energielösungen\nRoland Neuhaus\, Investor und Pionier für innovative EE-Lösungen\n\n\n– Einsatzmöglichkeiten von großen Energiespeichern\nGerhard Stamm\, Geschäftsführer der GS-HUB GmbH\n\n\n\n\n\nPaneldiskussion „Ist Nachhaltigkeit für Unternehmen noch ein Thema?“\nModeration: Ulrich Hadding\, Unternehmensberater und Rechtsanwalt \n\nWir freuen uns auf einen Austausch unter Unternehmern\, Investoren und Experten für Erneuerbare Energien. \nDie Anmeldung ist zunächst eine Vorregistrierung.\nDie Teilnahme ist erst nach Zahlungseingang verbindlich. \n\n  Jetzt anmelden\n \n\n  \n\n  \n\n\n\n\n\n\n\nAnmeldung\n\n\n	Anrede*\nBitte wählenHerrFrau\n\n	 \n\n\n	Vorname*\n\n\n	 \n\n\n	Nachname*\n\n\n	 \n\n\n	E-Mail*\n\n\n	 \n\n\n	Firma\n\n\n	 \n\n\n	Status Hauptanmelder*\nMIT-Mitglied (10 €)Nicht-Mitglied (20 €)\n	 \n\n\n	Teilnehmerzahl*\n\n\n	 \n\n\n	Begleitpersonen\n	\n	\n	\n\n\n	Ich habe die Datenschutzhinweise gelesen und akzeptiere sie.\n	 \n\n\n\n\n\n	\n	 \nΔ
URL:https://www.mithx.de/event/mit-unternehmerfruehstueck-2/
LOCATION:Hotel ten Hoopen Restaurant Deele\, Zum Kurgarten 24\, Warburg-Germete\, 34414\, Germany
END:VEVENT
END:VCALENDAR